BEGIN:VCALENDAR
VERSION:2.0
PRODID:-//TRU Friends Of The Garden - ECPv6.15.20//NONSGML v1.0//EN
CALSCALE:GREGORIAN
METHOD:PUBLISH
X-ORIGINAL-URL:https://trufog.org
X-WR-CALDESC:Events for TRU Friends Of The Garden
REFRESH-INTERVAL;VALUE=DURATION:PT1H
X-Robots-Tag:noindex
X-PUBLISHED-TTL:PT1H
BEGIN:VTIMEZONE
TZID:America/Vancouver
BEGIN:DAYLIGHT
TZOFFSETFROM:-0800
TZOFFSETTO:-0700
TZNAME:PDT
DTSTART:20240310T100000
END:DAYLIGHT
BEGIN:STANDARD
TZOFFSETFROM:-0700
TZOFFSETTO:-0800
TZNAME:PST
DTSTART:20241103T090000
END:STANDARD
BEGIN:DAYLIGHT
TZOFFSETFROM:-0800
TZOFFSETTO:-0700
TZNAME:PDT
DTSTART:20250309T100000
END:DAYLIGHT
BEGIN:STANDARD
TZOFFSETFROM:-0700
TZOFFSETTO:-0800
TZNAME:PST
DTSTART:20251102T090000
END:STANDARD
BEGIN:DAYLIGHT
TZOFFSETFROM:-0800
TZOFFSETTO:-0700
TZNAME:PDT
DTSTART:20260308T100000
END:DAYLIGHT
BEGIN:STANDARD
TZOFFSETFROM:-0700
TZOFFSETTO:-0800
TZNAME:PST
DTSTART:20261101T090000
END:STANDARD
END:VTIMEZONE
BEGIN:VEVENT
DTSTART;TZID=America/Vancouver:20251202T053000
DTEND;TZID=America/Vancouver:20251202T210000
DTSTAMP:20260423T160504
CREATED:20250829T212159Z
LAST-MODIFIED:20251106T061447Z
UID:788-1764653400-1764709200@trufog.org
SUMMARY:FOG Christmas Social
DESCRIPTION:Pot Luck Supper Christmas social. This years’ social will be held in the multipurpose room on the main floor of the residential tower\, across the street from Horticulture. A comfortable room with tables\, chairs\, and basic kitchen facilities\, this space will give us room to move around and visit\, and enjoy the evening. \n\n\n\nBring your significant other or a friend\, as well as an appie/finger food\, or dessert. We need volunteers for decorating\, an idea of how many will attend\, and type of food you’d like to bring. \n\n\n\nWatch for an email shortly – we’d love to hear from you by Nov 20
URL:https://trufog.org/event/fog-christmas-social/
END:VEVENT
BEGIN:VEVENT
DTSTART;TZID=America/Vancouver:20251206T100000
DTEND;TZID=America/Vancouver:20251206T123000
DTSTAMP:20260423T160504
CREATED:20251106T071226Z
LAST-MODIFIED:20251106T071228Z
UID:814-1765015200-1765024200@trufog.org
SUMMARY:Wreath Making Workshop
DESCRIPTION:Create a holiday wreath\, table decoration\, a traditional garland for your front door. Bring your imagination\, extra trimmings to use or donate if you wish and we will supply the greenery\, glue\, ribbons and fun. Held in the greenhouse behind House 10. Members are welcome to bring a guest or family member.
URL:https://trufog.org/event/wreath-making-workshop/
END:VEVENT
END:VCALENDAR